BEGIN:VCALENDAR
VERSION:2.0
PRODID:SchoolNow
CALSCALE:GREGORIAN
BEGIN:VEVENT
UID:1307040a-fb46-11ee-8618-0affdac7174f
DTSTAMP:20240415T163448Z
SUMMARY:PTSA meeting
URL;VALUE=URI:https://www.albanyschools.org/schools/myers/calendar/5788928/
 ptsa-meeting
DTSTART:20240508T213000Z
DTEND:20240508T223000Z
END:VEVENT
END:VCALENDAR
