BEGIN:VCALENDAR
VERSION:2.0
PRODID:SchoolNow
CALSCALE:GREGORIAN
BEGIN:VEVENT
UID:21284094-fb46-11ee-b2d5-0a58a9feac02
DTSTAMP:20240415T163511Z
SUMMARY:Q3 Honor Roll ceremony
URL;VALUE=URI:https://www.albanyschools.org/schools/myers/calendar/5788929/
 q3-honor-roll-ceremony
DTSTART:20240510T123000Z
DTEND:20240510T133000Z
END:VEVENT
END:VCALENDAR
