BEGIN:VCALENDAR
VERSION:2.0
PRODID:SchoolNow
CALSCALE:GREGORIAN
BEGIN:VEVENT
UID:af996642-0649-11ef-8d35-0e9627f74391
DTSTAMP:20240429T165822Z
SUMMARY:PTSA fundraiser at Spinner's
URL;VALUE=URI:https://www.albanyschools.org/schools/myers/calendar/5881411/
 ptsa-fundraiser-at-spinners
DTSTART:20240513T160000Z
DTEND:20240514T010000Z
END:VEVENT
END:VCALENDAR
