BEGIN:VCALENDAR
VERSION:2.0
PRODID:SchoolNow
CALSCALE:GREGORIAN
BEGIN:VEVENT
UID:c47d0f8c-0649-11ef-994f-0affd9e8db85
DTSTAMP:20240429T165857Z
SUMMARY:Spirit Week
URL;VALUE=URI:https://www.albanyschools.org/schools/myers/calendar/5881412/
 spirit-week
DTSTART:20240610T165800Z
DTEND:20240614T175800Z
END:VEVENT
END:VCALENDAR
