BEGIN:VCALENDAR
VERSION:2.0
PRODID:SchoolNow
CALSCALE:GREGORIAN
BEGIN:VEVENT
UID:d746306c-0649-11ef-b376-02178e8ad269
DTSTAMP:20240429T165928Z
SUMMARY:Grade 7 PBIS trip to Valley Cats
URL;VALUE=URI:https://www.albanyschools.org/schools/myers/calendar/5881413/
 grade-7-pbis-trip-to-valley-cats
DTSTART:20240612T165900Z
DTEND:20240612T175900Z
END:VEVENT
END:VCALENDAR
