BEGIN:VCALENDAR
VERSION:2.0
PRODID:SchoolNow
CALSCALE:GREGORIAN
BEGIN:VEVENT
UID:ea3841d8-0649-11ef-a379-0a58a9feac02
DTSTAMP:20240429T170000Z
SUMMARY:Grade 6 PBIS trip to Del Lanes
URL;VALUE=URI:https://www.albanyschools.org/schools/myers/calendar/5881414/
 grade-6-pbis-trip-to-del-lanes
DTSTART:20240612T165900Z
DTEND:20240612T175900Z
END:VEVENT
END:VCALENDAR
