BEGIN:VCALENDAR
VERSION:2.0
PRODID:SchoolNow
CALSCALE:GREGORIAN
BEGIN:VEVENT
UID:fe639bb2-0649-11ef-baa8-0a58a9feac02
DTSTAMP:20240429T170034Z
SUMMARY:Grade 6 UAlbany trip to Bronx Zoo
URL;VALUE=URI:https://www.albanyschools.org/schools/myers/calendar/5881415/
 grade-6-ualbany-trip-to-bronx-zoo
DTSTART:20240612T170000Z
DTEND:20240612T180000Z
END:VEVENT
END:VCALENDAR
