BEGIN:VCALENDAR
VERSION:2.0
PRODID:SchoolNow
CALSCALE:GREGORIAN
BEGIN:VEVENT
UID:19720e66-064a-11ef-8dc6-0affd581f39d
DTSTAMP:20240429T170119Z
SUMMARY:Grade 6 UAlbany PBIS trip to Del Lanes
URL;VALUE=URI:https://www.albanyschools.org/schools/myers/calendar/5881997/
 grade-6-ualbany-pbis-trip-to-del-lanes
DTSTART:20240618T170000Z
DTEND:20240618T180000Z
END:VEVENT
END:VCALENDAR
