BEGIN:VCALENDAR
VERSION:2.0
PRODID:SchoolNow
CALSCALE:GREGORIAN
BEGIN:VEVENT
UID:2d6f5310-064a-11ef-b294-0e9627f74391
DTSTAMP:20240429T170153Z
SUMMARY:Grade 6 Sage trip to Bronx Zoo
URL;VALUE=URI:https://www.albanyschools.org/schools/myers/calendar/5881998/
 grade-6-sage-trip-to-bronx-zoo
DTSTART:20240618T170100Z
DTEND:20240618T180100Z
END:VEVENT
END:VCALENDAR
