BEGIN:VCALENDAR
VERSION:2.0
PRODID:SchoolNow
CALSCALE:GREGORIAN
BEGIN:VEVENT
UID:42b33bb0-064a-11ef-bab1-0e1bb519d9db
DTSTAMP:20240429T170228Z
SUMMARY:Grade 6 Sage PBIS trip to JCC
URL;VALUE=URI:https://www.albanyschools.org/schools/myers/calendar/5881999/
 grade-6-sage-pbis-trip-to-jcc
DTSTART:20240620T170200Z
DTEND:20240620T180200Z
END:VEVENT
END:VCALENDAR
