BEGIN:VCALENDAR
VERSION:2.0
PRODID:SchoolNow
CALSCALE:GREGORIAN
BEGIN:VEVENT
UID:6332978c-064a-11ef-a526-0a58a9feac02
DTSTAMP:20240429T170323Z
SUMMARY:Grade 8 PBIS trip to WildPlay at Thacher Park
URL;VALUE=URI:https://www.albanyschools.org/schools/myers/calendar/5882000/
 grade-8-pbis-trip-to-wildplay-at-thacher-park
DTSTART:20240620T170200Z
DTEND:20240620T180200Z
END:VEVENT
END:VCALENDAR
