BEGIN:VCALENDAR
VERSION:2.0
PRODID:SchoolNow
CALSCALE:GREGORIAN
BEGIN:VEVENT
UID:7789b134-064a-11ef-abb8-0affd9e8db85
DTSTAMP:20240429T170357Z
SUMMARY:Grade 6 field day
URL;VALUE=URI:https://www.albanyschools.org/schools/myers/calendar/5882001/
 grade-6-field-day
DTSTART:20240621T170300Z
DTEND:20240621T180300Z
END:VEVENT
END:VCALENDAR
