BEGIN:VCALENDAR
VERSION:2.0
PRODID:SchoolNow
CALSCALE:GREGORIAN
BEGIN:VEVENT
UID:9315faac-064a-11ef-96a0-0258a57680db
DTSTAMP:20240429T170443Z
SUMMARY:Grade 8 trip to Ellis Island and 9/11 Memorial
URL;VALUE=URI:https://www.albanyschools.org/schools/myers/calendar/5882002/
 grade-8-trip-to-ellis-island-and-9-11-memorial
DTSTART:20240624T170400Z
DTEND:20240624T180400Z
END:VEVENT
END:VCALENDAR
