BEGIN:VCALENDAR
VERSION:2.0
PRODID:SchoolNow
CALSCALE:GREGORIAN
BEGIN:VEVENT
UID:9f2c6718-064a-11ef-853f-0a58a9feac02
DTSTAMP:20240429T170503Z
SUMMARY:Grade 7 field day
URL;VALUE=URI:https://www.albanyschools.org/schools/myers/calendar/5882003/
 grade-7-field-day
DTSTART:20240624T170400Z
DTEND:20240624T180400Z
END:VEVENT
END:VCALENDAR
