BEGIN:VCALENDAR
VERSION:2.0
PRODID:SchoolNow
CALSCALE:GREGORIAN
BEGIN:VEVENT
UID:abd24c58-064a-11ef-b50b-0e9627f74391
DTSTAMP:20240429T170525Z
SUMMARY:Grade 8 field day
URL;VALUE=URI:https://www.albanyschools.org/schools/myers/calendar/5882005/
 grade-8-field-day
DTSTART:20240625T170500Z
DTEND:20240625T180500Z
END:VEVENT
END:VCALENDAR
