BEGIN:VCALENDAR
VERSION:2.0
PRODID:SchoolNow
CALSCALE:GREGORIAN
BEGIN:VEVENT
UID:b8446b92-064a-11ef-801b-0affd581f39d
DTSTAMP:20240429T170546Z
SUMMARY:Grade 8 dance
URL;VALUE=URI:https://www.albanyschools.org/schools/myers/calendar/5882006/
 grade-8-dance
DTSTART:20240625T210000Z
DTEND:20240625T230000Z
END:VEVENT
END:VCALENDAR
