BEGIN:VCALENDAR
VERSION:2.0
PRODID:SchoolNow
CALSCALE:GREGORIAN
BEGIN:VEVENT
UID:ca942062-064a-11ef-8679-0258a57680db
DTSTAMP:20240429T170616Z
SUMMARY:Grade 7 trip to Boston Museum of Science
URL;VALUE=URI:https://www.albanyschools.org/schools/myers/calendar/5882007/
 grade-7-trip-to-boston-museum-of-science
DTSTART:20240625T170500Z
DTEND:20240625T180500Z
END:VEVENT
END:VCALENDAR
