BEGIN:VCALENDAR
VERSION:2.0
PRODID:SchoolNow
CALSCALE:GREGORIAN
BEGIN:VEVENT
UID:f670531c-178a-11ef-8bac-0a58a9feac02
DTSTAMP:20240521T160019Z
SUMMARY:Jazz at Spinners on 5/31
URL;VALUE=URI:https://www.albanyschools.org/schools/myers/calendar/6006650/
 albany-high-jazz-at-spinners-on-5-31
DTSTART:20240531T224500Z
DTEND:20240601T020000Z
END:VEVENT
END:VCALENDAR
