BEGIN:VCALENDAR
VERSION:2.0
PRODID:SchoolNow
CALSCALE:GREGORIAN
BEGIN:VEVENT
UID:35273c4e-178e-11ef-b1a5-0a58a9feac02
DTSTAMP:20240521T162141Z
SUMMARY:Albany High New Family Orientation (5/30)
URL;VALUE=URI:https://www.albanyschools.org/schools/myers/calendar/6006660/
 albany-high-new-family-orientation-5-30
DTSTART:20240530T213000Z
DTEND:20240530T223000Z
END:VEVENT
END:VCALENDAR
