BEGIN:VCALENDAR
VERSION:2.0
PRODID:SchoolNow
CALSCALE:GREGORIAN
BEGIN:VEVENT
UID:16bcd590-4914-11ef-b7e7-0affc3344bc3
DTSTAMP:20240723T165537Z
SUMMARY:Grade 6 Transition Camp
URL;VALUE=URI:https://www.albanyschools.org/schools/myers/calendar/6298909/
 grade-6-transition-camp
DTSTART:20240812T120000Z
DTEND:20240816T153000Z
END:VEVENT
END:VCALENDAR
