BEGIN:VCALENDAR
VERSION:2.0
PRODID:SchoolNow
CALSCALE:GREGORIAN
BEGIN:VEVENT
UID:492c6270-4914-11ef-8a78-0a58a9feac02
DTSTAMP:20240723T165454Z
SUMMARY:Parent Information Night
URL;VALUE=URI:https://www.albanyschools.org/schools/myers/calendar/6298910/
 parent-information-night
DTSTART:20240813T210000Z
DTEND:20240813T220000Z
END:VEVENT
END:VCALENDAR
