BEGIN:VCALENDAR
VERSION:2.0
PRODID:SchoolNow
CALSCALE:GREGORIAN
BEGIN:VEVENT
UID:874cf87e-541a-11ef-9257-0a58a9feac02
DTSTAMP:20241009T201558Z
SUMMARY:Fall Picture Days
URL;VALUE=URI:https://www.albanyschools.org/schools/myers/calendar/6363247/
 fall-picture-days
DTSTART:20241022T173600Z
DTEND:20241023T183600Z
END:VEVENT
END:VCALENDAR
