BEGIN:VCALENDAR
VERSION:2.0
PRODID:SchoolNow
CALSCALE:GREGORIAN
BEGIN:VEVENT
UID:9475abf4-541a-11ef-b8ed-0e72ab72bfb1
DTSTAMP:20240806T173740Z
SUMMARY:Quarter 1 grades close
URL;VALUE=URI:https://www.albanyschools.org/schools/myers/calendar/6363248/
 quarter-1-grades-close
DTSTART:20240806T173700Z
DTEND:20240806T183700Z
END:VEVENT
END:VCALENDAR
