BEGIN:VCALENDAR
VERSION:2.0
PRODID:SchoolNow
CALSCALE:GREGORIAN
BEGIN:VEVENT
UID:c28d77ba-541a-11ef-8d78-0e5166fbcd4b
DTSTAMP:20240806T173858Z
SUMMARY:Fall Picture Day make-ups
URL;VALUE=URI:https://www.albanyschools.org/schools/myers/calendar/6363249/
 fall-picture-day-make-ups
DTSTART:20241120T183800Z
DTEND:20241120T193800Z
END:VEVENT
END:VCALENDAR
