BEGIN:VCALENDAR
VERSION:2.0
PRODID:SchoolNow
CALSCALE:GREGORIAN
BEGIN:VEVENT
UID:d0f499f0-541a-11ef-bfca-0a58a9feac02
DTSTAMP:20241112T175036Z
SUMMARY:PBIS Fall Ball
URL;VALUE=URI:https://www.albanyschools.org/schools/myers/calendar/6363250/
 pbis-fall-ball
DTSTART:20241121T220000Z
DTEND:20241122T000000Z
END:VEVENT
END:VCALENDAR
