BEGIN:VCALENDAR
VERSION:2.0
PRODID:SchoolNow
CALSCALE:GREGORIAN
BEGIN:VEVENT
UID:eb8ccdb4-541a-11ef-b0ba-0e2d80489dd7
DTSTAMP:20240806T174006Z
SUMMARY:Teen Night
URL;VALUE=URI:https://www.albanyschools.org/schools/myers/calendar/6363252/
 teen-night
DTSTART:20241218T220000Z
DTEND:20241219T000000Z
END:VEVENT
END:VCALENDAR
