BEGIN:VCALENDAR
VERSION:2.0
PRODID:SchoolNow
CALSCALE:GREGORIAN
BEGIN:VEVENT
UID:0576dada-541b-11ef-b3ee-027fa00a7aa9
DTSTAMP:20250204T142838Z
SUMMARY:Winter Wonderland Dance
URL;VALUE=URI:https://www.albanyschools.org/schools/myers/calendar/6363253/
 winter-wonderland-dance
DTSTART:20250227T220000Z
DTEND:20250228T000000Z
END:VEVENT
END:VCALENDAR
