BEGIN:VCALENDAR
VERSION:2.0
PRODID:SchoolNow
CALSCALE:GREGORIAN
BEGIN:VEVENT
UID:25ed1900-541b-11ef-9e85-0afff8793875
DTSTAMP:20250626T170638Z
SUMMARY:Grade 8 Moving Up Ceremony
URL;VALUE=URI:https://www.albanyschools.org/schools/myers/calendar/6363255/
 grade-8-moving-up-ceremony
DTSTART:20250627T130000Z
DTEND:20250627T150000Z
END:VEVENT
END:VCALENDAR
