BEGIN:VCALENDAR
VERSION:2.0
PRODID:SchoolNow
CALSCALE:GREGORIAN
BEGIN:VEVENT
UID:994d0508-5656-11ef-932e-0a58a9feac02
DTSTAMP:20240809T135221Z
SUMMARY:Community Partner Mixer and Open House
URL;VALUE=URI:https://www.albanyschools.org/schools/myers/calendar/6376232/
 community-partner-mixer-and-open-house
DTSTART:20240918T203000Z
DTEND:20240918T220000Z
END:VEVENT
END:VCALENDAR
