BEGIN:VCALENDAR
VERSION:2.0
PRODID:SchoolNow
CALSCALE:GREGORIAN
BEGIN:VEVENT
UID:5fcbffb4-5e3a-11ef-825f-0affc7e3d4ab
DTSTAMP:20240819T145028Z
SUMMARY:First Day of School grades 6-8
URL;VALUE=URI:https://www.albanyschools.org/schools/myers/calendar/6425310/
 first-day-of-school-grades-6-8
DTSTART:20240906T120000Z
DTEND:20240906T190000Z
END:VEVENT
END:VCALENDAR
