BEGIN:VCALENDAR
VERSION:2.0
PRODID:SchoolNow
CALSCALE:GREGORIAN
BEGIN:VEVENT
UID:56a64ec4-60a8-11ef-94e2-0affd05cde67
DTSTAMP:20240822T170239Z
SUMMARY:Winter Concert and Art Show
URL;VALUE=URI:https://www.albanyschools.org/schools/myers/calendar/6443789/
 winter-concert-and-art-show
DTSTART:20241212T233000Z
DTEND:20241213T003000Z
END:VEVENT
END:VCALENDAR
