BEGIN:VCALENDAR
VERSION:2.0
PRODID:SchoolNow
CALSCALE:GREGORIAN
BEGIN:VEVENT
UID:efed94d2-63d9-11ef-9a87-0e4beb05e9dd
DTSTAMP:20240826T183515Z
SUMMARY:SECONDARY MARKING PERIOD (12/13)
URL;VALUE=URI:https://www.albanyschools.org/schools/myers/calendar/6463460/
 secondary-marking-period-12-13
DTSTART;VALUE=DATE:20241213
DTEND;VALUE=DATE:20241214
END:VEVENT
END:VCALENDAR
