BEGIN:VCALENDAR
VERSION:2.0
PRODID:SchoolNow
CALSCALE:GREGORIAN
BEGIN:VEVENT
UID:376a4bd0-647e-11ef-9955-0a58a9feac02
DTSTAMP:20240827T142018Z
SUMMARY:12:30 p.m. dismissal for students (staff professional development)
URL;VALUE=URI:https://www.albanyschools.org/schools/myers/calendar/6467196/
 professional-development-for-staff-students-dismiss-early-clone
DTSTART:20241120T130000Z
DTEND:20241120T170000Z
END:VEVENT
END:VCALENDAR
