BEGIN:VCALENDAR
VERSION:2.0
PRODID:SchoolNow
CALSCALE:GREGORIAN
BEGIN:VEVENT
UID:6b719424-647e-11ef-b0c5-0affe4b32ff7
DTSTAMP:20240827T142104Z
SUMMARY:12:30 p.m. dismissal for students (staff professional development)
URL;VALUE=URI:https://www.albanyschools.org/schools/myers/calendar/6467201/
 professional-development-for-staff-students-dismiss-early-clone-clone-clon
 e
DTSTART:20250226T130000Z
DTEND:20250226T170000Z
END:VEVENT
END:VCALENDAR
