BEGIN:VCALENDAR
VERSION:2.0
PRODID:SchoolNow
CALSCALE:GREGORIAN
BEGIN:VEVENT
UID:029f2e4a-7070-11ef-852b-0a58a9feac02
DTSTAMP:20240911T185945Z
SUMMARY:Special Person Breakfast
URL;VALUE=URI:https://www.albanyschools.org/schools/myers/calendar/6580435/
 special-person-breakfast
DTSTART:20240919T113000Z
DTEND:20240919T123000Z
END:VEVENT
END:VCALENDAR
