BEGIN:VCALENDAR
VERSION:2.0
PRODID:SchoolNow
CALSCALE:GREGORIAN
BEGIN:VEVENT
UID:5a7c7c90-79d9-11ef-8857-0a58a9feac02
DTSTAMP:20240923T182630Z
SUMMARY:Ice Cream Social
URL;VALUE=URI:https://www.albanyschools.org/schools/myers/calendar/6672587/
 ice-cream-social
DTSTART:20240925T213000Z
DTEND:20240925T223000Z
END:VEVENT
END:VCALENDAR
