BEGIN:VCALENDAR
VERSION:2.0
PRODID:SchoolNow
CALSCALE:GREGORIAN
BEGIN:VEVENT
UID:69f36ca6-79d9-11ef-ad60-02ec9a156d6b
DTSTAMP:20240923T182656Z
SUMMARY:PTSA meeting
URL;VALUE=URI:https://www.albanyschools.org/schools/myers/calendar/6672588/
 ptsa-meeting
DTSTART:20241016T220000Z
DTEND:20241016T230000Z
END:VEVENT
END:VCALENDAR
