BEGIN:VCALENDAR
VERSION:2.0
PRODID:SchoolNow
CALSCALE:GREGORIAN
BEGIN:VEVENT
UID:767591e8-79d9-11ef-8520-0a58a9feac02
DTSTAMP:20240923T182717Z
SUMMARY:PTSA meeting
URL;VALUE=URI:https://www.albanyschools.org/schools/myers/calendar/6672589/
 ptsa-meeting-clone
DTSTART:20241113T230000Z
DTEND:20241114T000000Z
END:VEVENT
END:VCALENDAR
