BEGIN:VCALENDAR
VERSION:2.0
PRODID:SchoolNow
CALSCALE:GREGORIAN
BEGIN:VEVENT
UID:5392dada-7a94-11ef-ab58-0a58a9feac02
DTSTAMP:20240924T164454Z
SUMMARY:Honor Roll Ceremony
URL;VALUE=URI:https://www.albanyschools.org/schools/myers/calendar/6680829/
 honor-roll-ceremony
DTSTART:20241206T133000Z
DTEND:20241206T143000Z
END:VEVENT
END:VCALENDAR
