BEGIN:VCALENDAR
VERSION:2.0
PRODID:SchoolNow
CALSCALE:GREGORIAN
BEGIN:VEVENT
UID:6a8f709a-7a94-11ef-9802-0a58a9feac02
DTSTAMP:20240924T164533Z
SUMMARY:Honor Roll Ceremony
URL;VALUE=URI:https://www.albanyschools.org/schools/myers/calendar/6680830/
 honor-roll-ceremony-clone
DTSTART:20250228T133000Z
DTEND:20250228T143000Z
END:VEVENT
END:VCALENDAR
