BEGIN:VCALENDAR
VERSION:2.0
PRODID:SchoolNow
CALSCALE:GREGORIAN
BEGIN:VEVENT
UID:75b34938-7a94-11ef-aec0-0e6896bb8605
DTSTAMP:20240924T164552Z
SUMMARY:Honor Roll Ceremony
URL;VALUE=URI:https://www.albanyschools.org/schools/myers/calendar/6680831/
 honor-roll-ceremony-clone
DTSTART:20250509T123000Z
DTEND:20250509T133000Z
END:VEVENT
END:VCALENDAR
