BEGIN:VCALENDAR
VERSION:2.0
PRODID:SchoolNow
CALSCALE:GREGORIAN
BEGIN:VEVENT
UID:76dd76c0-7ced-11ef-af2a-02935f28ca3d
DTSTAMP:20240927T162801Z
SUMMARY:Trunk-or-Treat
URL;VALUE=URI:https://www.albanyschools.org/schools/myers/calendar/6704770/
 trunk-or-treat
DTSTART:20241029T203000Z
DTEND:20241029T220000Z
END:VEVENT
END:VCALENDAR
