BEGIN:VCALENDAR
VERSION:2.0
PRODID:SchoolNow
CALSCALE:GREGORIAN
BEGIN:VEVENT
UID:e00c6d9e-8b0d-11ef-8038-0a58a9feac02
DTSTAMP:20241015T155518Z
SUMMARY:Early dismissal for middle schools and Clement
URL;VALUE=URI:https://www.albanyschools.org/schools/myers/calendar/6829748/
 early-dismissals-for-middle-schools-and-clement-clone
DTSTART:20250115T173000Z
DTEND:20250115T183000Z
END:VEVENT
END:VCALENDAR
