BEGIN:VCALENDAR
VERSION:2.0
PRODID:SchoolNow
CALSCALE:GREGORIAN
BEGIN:VEVENT
UID:f76b9956-8b0d-11ef-9179-0e3d2ade3f33
DTSTAMP:20241015T155557Z
SUMMARY:Early dismissal for middle schools and Clement
URL;VALUE=URI:https://www.albanyschools.org/schools/myers/calendar/6829754/
 early-dismissals-for-middle-schools-and-clement-clone
DTSTART:20250226T173000Z
DTEND:20250226T183000Z
END:VEVENT
END:VCALENDAR
