BEGIN:VCALENDAR
VERSION:2.0
PRODID:SchoolNow
CALSCALE:GREGORIAN
BEGIN:VEVENT
UID:7aba3772-9bc1-11ef-8291-0affef277ea9
DTSTAMP:20241112T201712Z
SUMMARY:Winter athletics informational meeting
LOCATION:Albany High School
URL;VALUE=URI:https://www.albanyschools.org/schools/myers/calendar/6965789/
 winter-athletics-informational-meeting
DTSTART:20241114T230000Z
DTEND:20241115T000000Z
END:VEVENT
END:VCALENDAR
