BEGIN:VCALENDAR
VERSION:2.0
PRODID:SchoolNow
CALSCALE:GREGORIAN
BEGIN:VEVENT
UID:b6c180c8-a5c5-11ef-8479-0a58a9feac02
DTSTAMP:20241118T155646Z
SUMMARY:Toys for Tots Holiday Party
URL;VALUE=URI:https://www.albanyschools.org/schools/myers/calendar/7041898/
 toys-for-tots-holiday-party
DTSTART:20241212T213000Z
DTEND:20241212T233000Z
END:VEVENT
END:VCALENDAR
