BEGIN:VCALENDAR
VERSION:2.0
PRODID:SchoolNow
CALSCALE:GREGORIAN
BEGIN:VEVENT
UID:f1aebf70-a5c5-11ef-83c3-0affd76c3d73
DTSTAMP:20241118T155825Z
SUMMARY:Financial Literacy and Art Workshop
URL;VALUE=URI:https://www.albanyschools.org/schools/myers/calendar/7041899/
 financial-literacy-and-art-workshop
DTSTART:20241205T230000Z
DTEND:20241206T010000Z
END:VEVENT
END:VCALENDAR
