BEGIN:VCALENDAR
VERSION:2.0
PRODID:SchoolNow
CALSCALE:GREGORIAN
BEGIN:VEVENT
UID:76750c04-c476-11ef-93fc-0a58a9feac02
DTSTAMP:20241227T171734Z
SUMMARY:Curriculum Night
LOCATION:Albany High Auditorium
URL;VALUE=URI:https://www.albanyschools.org/schools/myers/calendar/7233103/
 curriculum-night
DTSTART:20250102T220000Z
DTEND:20250103T003000Z
END:VEVENT
END:VCALENDAR
