BEGIN:VCALENDAR
VERSION:2.0
PRODID:SchoolNow
CALSCALE:GREGORIAN
BEGIN:VEVENT
UID:97594240-cd14-11ef-9cb6-0a58a9feac02
DTSTAMP:20250107T164537Z
SUMMARY:PTSA Fundraiser - Dine and Donate at Spinners
URL;VALUE=URI:https://www.albanyschools.org/schools/myers/calendar/7281347/
 ptsa-fundraiser-dine-to-donate-at-spinners
DTSTART:20250127T170000Z
DTEND:20250128T020000Z
END:VEVENT
END:VCALENDAR
