BEGIN:VCALENDAR
VERSION:2.0
PRODID:SchoolNow
CALSCALE:GREGORIAN
BEGIN:VEVENT
UID:a1b9ff0e-cd14-11ef-81ef-0a58a9feac02
DTSTAMP:20250107T162956Z
SUMMARY:PTSA meeting
URL;VALUE=URI:https://www.albanyschools.org/schools/myers/calendar/7281348/
 ptsa-meeting
DTSTART:20250115T223000Z
DTEND:20250115T233000Z
END:VEVENT
END:VCALENDAR
